BEGIN:VCALENDAR
VERSION:2.0
PRODID:-//Migrant Resource Centre Tasmania - ECPv4.9.0.3//NONSGML v1.0//EN
CALSCALE:GREGORIAN
METHOD:PUBLISH
X-WR-CALNAME:Migrant Resource Centre Tasmania
X-ORIGINAL-URL:https://mrctas.org.au
X-WR-CALDESC:Events for Migrant Resource Centre Tasmania
BEGIN:VEVENT
DTSTART;TZID=Australia/Hobart:20200228T100000
DTEND;TZID=Australia/Hobart:20200228T113000
DTSTAMP:20200228T071321
CREATED:20171221T002734Z
LAST-MODIFIED:20200120T234919Z
UID:9729-1582884000-1582889400@mrctas.org.au
SUMMARY:Car Café
DESCRIPTION:Do you need English to drive? Come along to Car Cafe and practise your English with us! \n\nFocus on cars and driving\nHave a cup of tea or coffee\nWork with volunteers on your English\n\nContact Vatsal on (03) 6221 0999 or email driving@mrctas.org.au for more information. For an interpreter (TIS) call 131 450 \n \n  \nDownload the Car Café Flyer here \n
URL:https://mrctas.org.au/event/car-cafe/2020-02-28/
LOCATION:Migrant Resource Centre Tasmania\, Level 2\, 1A Anfield Street\, Glenorchy\, TAS\, 7010\, Australia
GEO:-42.8311952;147.2761466
X-APPLE-STRUCTURED-LOCATION;VALUE=URI;X-ADDRESS=Migrant Resource Centre Tasmania Level 2 1A Anfield Street Glenorchy TAS 7010 Australia;X-APPLE-RADIUS=500;X-TITLE=Level 2\, 1A Anfield Street:geo:147.2761466,-42.8311952
ATTACH;FMTTYPE=image/jpeg:https://mrctas.org.au/wp-content/uploads/2017/12/car-cafe-social-tile-e1513816194833.jpg
ORGANIZER;CN="Migrant%20Resource%20Centre%20Tasmania":MAILTO:reception@mrctas.org.au
END:VEVENT
BEGIN:VEVENT
DTSTART;TZID=Australia/Hobart:20200228T110000
DTEND;TZID=Australia/Hobart:20200228T130000
DTSTAMP:20200228T071321
CREATED:20191218T002456Z
LAST-MODIFIED:20191219T000103Z
UID:9672-1582887600-1582894800@mrctas.org.au
SUMMARY:Play2Learn
DESCRIPTION:Play2Learn is a fun time for you to share with your child. Play2Learn gives your child the chance to learn\, grow and prepare for school. Play2Learn is often conducted as part of the It Takes a Village program model. In this situation\, newly arrived humanitarian entrants with children aged 0 – 5 years are welcome to attend. \nCome and join us for: \n\nLots of play activities\nCraft\nHealthy lunch\nMusic & story time\nFun & friendship\nSupport with parenting\n\nProgram time and location: \nFridays from 11:00am t0 1:00pm\nGlenorchy Primary School \nIt Takes a Village is a multicultural program for newly arrived families. It incorporates several strategies to help families settle in to new communities\, as well as to provide early childhood development experiences and support with school life. \nMRC Tas is pleased to partner with Save the Children to deliver this program. Funded by the Australian Government Department of Home Affairs. Visit www.homeaffairs.gov.au for more information. \nReferral to Save the Children \nIt Takes a Village Fact Sheet \n
URL:https://mrctas.org.au/event/play2learn/2020-02-28/
LOCATION:Glenorchy Primary School\, Kensington St\, Glenorchy\, TAS\, 7010\, Australia
ATTACH;FMTTYPE=image/jpeg:https://mrctas.org.au/wp-content/uploads/2019/12/play2learn.jpg
END:VEVENT
BEGIN:VEVENT
DTSTART;TZID=Australia/Hobart:20200228T123000
DTEND;TZID=Australia/Hobart:20200228T140000
DTSTAMP:20200228T071321
CREATED:20190226T002719Z
LAST-MODIFIED:20200120T235055Z
UID:9750-1582893000-1582898400@mrctas.org.au
SUMMARY:Conversation Club
DESCRIPTION:English skills = opportunities! \nPractise English at Conversation Club. \nTo improve your English skills it is important to practise\, so join us to: \n\nListen and speak\nMeet friendly people\nGrow your confidence\n\nBeginners welcome. \nDuring School Term 1 (7 Feb – 3 April\, 2020)\nFridays 12:30pm – 2:00pm\nGlenorchy Library\, 4 Terry Street\, Glenorchy \nFor more information as a participant or a volunteer please contact Jonathan (for an interpreter contact TIS on 131 450) \nDownload the flyer here \n
URL:https://mrctas.org.au/event/conversation-club/2020-02-28/
LOCATION:Glenorchy Library\, 4 Terry Street\, Glenorchy\, TAS\, 7010\, Australia
GEO:-42.8344191;147.2752046
X-APPLE-STRUCTURED-LOCATION;VALUE=URI;X-ADDRESS=Glenorchy Library 4 Terry Street Glenorchy TAS 7010 Australia;X-APPLE-RADIUS=500;X-TITLE=4 Terry Street:geo:147.2752046,-42.8344191
ATTACH;FMTTYPE=image/jpeg:https://mrctas.org.au/wp-content/uploads/2019/02/convo-icon-14-e1551140801630.jpg
ORGANIZER;CN="Migrant%20Resource%20Centre%20Tasmania":MAILTO:reception@mrctas.org.au
END:VEVENT
END:VCALENDAR